BEGIN:VCALENDAR
VERSION:2.0
PRODID:-//KIMM - Klimainitiative Memmingen e.V. - ECPv6.15.17.1//NONSGML v1.0//EN
CALSCALE:GREGORIAN
METHOD:PUBLISH
X-WR-CALNAME:KIMM - Klimainitiative Memmingen e.V.
X-ORIGINAL-URL:https://klima-mm.de
X-WR-CALDESC:Veranstaltungen für KIMM - Klimainitiative Memmingen e.V.
REFRESH-INTERVAL;VALUE=DURATION:PT1H
X-Robots-Tag:noindex
X-PUBLISHED-TTL:PT1H
BEGIN:VTIMEZONE
TZID:Europe/Berlin
BEGIN:DAYLIGHT
TZOFFSETFROM:+0100
TZOFFSETTO:+0200
TZNAME:CEST
DTSTART:20250330T010000
END:DAYLIGHT
BEGIN:STANDARD
TZOFFSETFROM:+0200
TZOFFSETTO:+0100
TZNAME:CET
DTSTART:20251026T010000
END:STANDARD
BEGIN:DAYLIGHT
TZOFFSETFROM:+0100
TZOFFSETTO:+0200
TZNAME:CEST
DTSTART:20260329T010000
END:DAYLIGHT
BEGIN:STANDARD
TZOFFSETFROM:+0200
TZOFFSETTO:+0100
TZNAME:CET
DTSTART:20261025T010000
END:STANDARD
BEGIN:DAYLIGHT
TZOFFSETFROM:+0100
TZOFFSETTO:+0200
TZNAME:CEST
DTSTART:20270328T010000
END:DAYLIGHT
BEGIN:STANDARD
TZOFFSETFROM:+0200
TZOFFSETTO:+0100
TZNAME:CET
DTSTART:20271031T010000
END:STANDARD
END:VTIMEZONE
BEGIN:VEVENT
DTSTART;TZID=Europe/Berlin:20260322T100000
DTEND;TZID=Europe/Berlin:20260420T200000
DTSTAMP:20260424T222404
CREATED:20260303T200752Z
LAST-MODIFIED:20260303T201000Z
UID:1704-1774173600-1776715200@klima-mm.de
SUMMARY:Klimafrühling 2026
DESCRIPTION:„Keep cool – gesund bleiben in heißen Zeiten“\nCool bleiben: Trotz Verfehlung des Klimaziels von 1\,5 Grad? \nUnbedingt! Nur wer „cool“ bleibt\, kann nachdenken und handeln! \nMit dem Thema „Gesundheit im Klimawandel“ geht der Memminger Klimafrühling in seine 4. Runde!\nWas hat unsere Ernährung mit den Klimaveränderungen zu tun? Welchen Nutzen haben mehr Bäume in der Stadt? Und warum tragen auch Kühe zum Klimaschutz bei? Diese und weitere spannende Themen werden bei Vorträgen und Führungen\, aber auch bei einem Kochkurs und einer Mitmach-Rallye auf dem Programm stehen.  \nVon 21.3. bis 20.4.2026 laden wir Euch gemeinsam mit unseren zahlreichen Partnerorganisationen und mit finanzieller Unterstützung durch das „Bündnis Klimaneutrales Allgäu“ ein\, am Klimafrühling aktiv teilzunehmen.  \nSchaut gerne in das Programm (Link) und besucht uns auf der einen oder anderen Veranstaltung. Wie in den vergangenen Jahren sind fast alle Veranstaltungen kostenfrei zugänglich\, Es ist uns wichtig\, allen Interessierten die Teilnahme an den Vorträgen und Führungen zu ermöglichen. Über Spenden freuen wir uns dennoch sehr; diese werden in zukünftige Projekte unseres Vereins fließen. \nWir von KIMM sind überzeugt davon: Auch bei einer Erwärmung von mindestens 1\,5 Grad kann man das Klima noch aktiv beeinflussen und für eine gute Lebensqualität auch in unserer Stadt sorgen!  \nWer möchte\, kann übrigens im Anschluss an den Klimafrühling bei uns ein Balkonsolarpaneel inklusive Batteriespeicher kostenlos für jeweils einen Monat ausleihen.
URL:https://klima-mm.de/event/klimafruehling-2026/
CATEGORIES:Klimafrühling
END:VEVENT
END:VCALENDAR