BEGIN:VCALENDAR
VERSION:2.0
PRODID:-//KIMM - Klimainitiative Memmingen e.V. - ECPv6.15.17.1//NONSGML v1.0//EN
CALSCALE:GREGORIAN
METHOD:PUBLISH
X-ORIGINAL-URL:https://klima-mm.de
X-WR-CALDESC:Veranstaltungen für KIMM - Klimainitiative Memmingen e.V.
REFRESH-INTERVAL;VALUE=DURATION:PT1H
X-Robots-Tag:noindex
X-PUBLISHED-TTL:PT1H
BEGIN:VTIMEZONE
TZID:Europe/Berlin
BEGIN:DAYLIGHT
TZOFFSETFROM:+0100
TZOFFSETTO:+0200
TZNAME:CEST
DTSTART:20240331T010000
END:DAYLIGHT
BEGIN:STANDARD
TZOFFSETFROM:+0200
TZOFFSETTO:+0100
TZNAME:CET
DTSTART:20241027T010000
END:STANDARD
BEGIN:DAYLIGHT
TZOFFSETFROM:+0100
TZOFFSETTO:+0200
TZNAME:CEST
DTSTART:20250330T010000
END:DAYLIGHT
BEGIN:STANDARD
TZOFFSETFROM:+0200
TZOFFSETTO:+0100
TZNAME:CET
DTSTART:20251026T010000
END:STANDARD
BEGIN:DAYLIGHT
TZOFFSETFROM:+0100
TZOFFSETTO:+0200
TZNAME:CEST
DTSTART:20260329T010000
END:DAYLIGHT
BEGIN:STANDARD
TZOFFSETFROM:+0200
TZOFFSETTO:+0100
TZNAME:CET
DTSTART:20261025T010000
END:STANDARD
END:VTIMEZONE
BEGIN:VEVENT
DTSTART;TZID=Europe/Berlin:20250410T180000
DTEND;TZID=Europe/Berlin:20250410T193000
DTSTAMP:20260426T001845
CREATED:20250402T095845Z
LAST-MODIFIED:20250402T095845Z
UID:1344-1744308000-1744313400@klima-mm.de
SUMMARY:Balkon-PV (Steckerfertige Solarmodule) - Kostenloser Online-Vortrag
DESCRIPTION:Mit steckerfertigen Solarmodulen können immer mehr Menschen bei der Energiewende mitmachen und selbst von günstigem Solarstrom profitieren – egal\, ob sie in einem Haus oder in einer Wohnung leben. Die Module lassen sich zum Beispiel am Balkon befestigen oder auf der Garage aufstellen. Die Preise für die Module sind in den letzten Monaten deutlich gefallen und der Gesetzgeber hat die Umsetzung wesentlich vereinfacht. \nAuf was es bei steckerfertigen Solarmodulen zu achten gilt\, das erfahren interessierte Bürgerinnen und Bürger bei einem Online-Vortrag am Donnerstag\, 10. April\, von 18.00 bis 19.30 Uhr. Organisiert wird die Veranstaltung von der Fachstelle für Klimaschutz am Landratsamt Unterallgäu. Referent ist Solarexperte Michael Vogtmann von der Deutschen Gesellschaft für Sonnenenergie (DGS Franken). In seinem Vortrag wird er unter anderem auf die Technik\, die rechtlichen Rahmenbedingungen und auf mögliche Bezugsquellen für steckerfertige Solarmodule eingehen. Konkrete Anwendungsbeispiele\, Tipps für die Umsetzung und ein Ausblick auf die kommende Produktnorm runden den Vortrag ab. Außerdem ist Zeit für Fragen der Teilnehmenden eingeplant. \nWas gibt es organisatorisch zu beachten? \n\nDie Teilnahme an der Veranstaltung ist kostenlos.\nKlicken Sie auf den Button „Zur Anmeldung“\, um sich zu für die Veranstaltung anzumelden. Anmeldeschluss ist der 8. April 2025.\nDie Veranstaltung findet über Webex oder ZOOM statt. Sie können die Software kostenlos herunterladen oder über die Browser-Version teilnehmen. Eine Kamera ist nicht erforderlich.\nDie angemeldeten Teilnehmer erhalten Informationen über die verwendete Technik sowie den benötigten Zugangslink einen Tag vor der Veranstaltung per E-Mail. Bitte prüfen Sie ggf. auch Ihren Spam-Ordner.\nAm Veranstaltungstag können Sie bereits ab 17.30 Uhr den Zugangslink aufrufen und prüfen\, ob Ihre Technik funktioniert.\n\n\nOrganisator/Ansprechpartner\n\nFachstelle für Klimaschutz\nklimaschutz@lra.unterallgaeu.de\n(08261) 995-164
URL:https://klima-mm.de/event/balkon-pv-steckerfertige-solarmodule-kostenloser-online-vortrag/
CATEGORIES:Externe Veranstaltungen
ORGANIZER;CN="Landratsamt":MAILTO:klimaschutz@lra.unterallgaeu.de
END:VEVENT
END:VCALENDAR